BEGIN:VCALENDAR
VERSION:2.0
PRODID:-//Ruskon kunta - ECPv6.6.2//NONSGML v1.0//EN
CALSCALE:GREGORIAN
METHOD:PUBLISH
X-WR-CALNAME:Ruskon kunta
X-ORIGINAL-URL:https://rusko.fi
X-WR-CALDESC:Events for Ruskon kunta
REFRESH-INTERVAL;VALUE=DURATION:PT1H
X-Robots-Tag:noindex
X-PUBLISHED-TTL:PT1H
BEGIN:VTIMEZONE
TZID:Europe/Helsinki
BEGIN:DAYLIGHT
TZOFFSETFROM:+0200
TZOFFSETTO:+0300
TZNAME:EEST
DTSTART:20260329T010000
END:DAYLIGHT
BEGIN:STANDARD
TZOFFSETFROM:+0300
TZOFFSETTO:+0200
TZNAME:EET
DTSTART:20261025T010000
END:STANDARD
END:VTIMEZONE
BEGIN:VEVENT
DTSTART;TZID=Europe/Helsinki:20260518T180000
DTEND;TZID=Europe/Helsinki:20260518T190000
DTSTAMP:20260422T024526
CREATED:20260421T121541Z
LAST-MODIFIED:20260421T121853Z
UID:10002303-1779127200-1779130800@rusko.fi
SUMMARY:Varhaisen vuorovaikutuksen merkitys – etätilaisuus vanhemmille 18.5. klo 18:00
DESCRIPTION:Aika: maanantai 18.5. klo 18.00–19.00Paikka: Teams-etätilaisuusJärjestäjä: Ruskon nanny-palvelu \nMitä varhainen vuorovaikutus on ja miksi se on niin tärkeää lapsen kehitykselle? Mitä vanhempi voi tehdä tukeakseen lapsensa suotuisaa kehitystä? Entä mitä tarkoittaa riittävän hyvä vanhemmuus? \nVarhaisen vuorovaikutuksen merkityksestä puhuu lastenpsykiatrian erikoislääkäri ja varhaisen vuorovaikutuksen psykoterapeutti Marika Leppänen. Illan emännöi Ruskon nanny Katja Niela\, joka on myös varhaisen vuorovaikutuksen psykoterapeutti. \nTilaisuuteen ei tarvitse ilmoittautua ennakkoon. Osallistu suoraan kokoukseen: Varhaisen vuorovaikutuksen merkitys 18.5. klo 18:00. \nLämpimästi tervetuloa!
URL:https://rusko.fi/tapahtuma/varhaisen-vuorovaikutuksen-merkitys-etatilaisuus-vanhemmille-18-5-klo-1800/
CATEGORIES:Hyvinvointi
ATTACH;FMTTYPE=image/png:https://rusko.fi/wp-content/uploads/2026/04/Mita-on-riittavan-hyva-vanhemmuus.png
END:VEVENT
END:VCALENDAR