BEGIN:VCALENDAR
VERSION:2.0
PRODID:-//Ruskon kunta - ECPv6.6.2//NONSGML v1.0//EN
CALSCALE:GREGORIAN
METHOD:PUBLISH
X-ORIGINAL-URL:https://rusko.fi
X-WR-CALDESC:Events for Ruskon kunta
REFRESH-INTERVAL;VALUE=DURATION:PT1H
X-Robots-Tag:noindex
X-PUBLISHED-TTL:PT1H
BEGIN:VTIMEZONE
TZID:Europe/Helsinki
BEGIN:DAYLIGHT
TZOFFSETFROM:+0200
TZOFFSETTO:+0300
TZNAME:EEST
DTSTART:20260329T010000
END:DAYLIGHT
BEGIN:STANDARD
TZOFFSETFROM:+0300
TZOFFSETTO:+0200
TZNAME:EET
DTSTART:20261025T010000
END:STANDARD
END:VTIMEZONE
BEGIN:VEVENT
DTSTART;TZID=Europe/Helsinki:20260301T170000
DTEND;TZID=Europe/Helsinki:20260301T210000
DTSTAMP:20260419T152803
CREATED:20250804T120401Z
LAST-MODIFIED:20250924T105546Z
UID:10001877-1772384400-1772398800@rusko.fi
SUMMARY:Sunnuntaitanssit
DESCRIPTION:Sunnuntaitanssit klo 17-21 joka sunnuntai Ruskotalolla \nsu 5.10.2025 – su 26.4.2026 \nTervetuloa!
URL:https://rusko.fi/tapahtuma/sunnuntaitanssit/2026-03-01/
ATTACH;FMTTYPE=image/jpeg:https://rusko.fi/wp-content/uploads/2025/08/Ruskotalo_artisti.jpg
END:VEVENT
BEGIN:VEVENT
DTSTART;TZID=Europe/Helsinki:20260304T173000
DTEND;TZID=Europe/Helsinki:20260304T183000
DTSTAMP:20260419T152803
CREATED:20260223T081847Z
LAST-MODIFIED:20260223T081958Z
UID:10002231-1772645400-1772649000@rusko.fi
SUMMARY:NEPSY-ilta perheille 4.3.
DESCRIPTION:Etäilta ruskolaisille perheille: perustietoa neuromoninaisuudesta (nepsy)\nNanny-palvelu järjestää yhdessä Aisti ry:n kanssa ruskolaisille perheille suunnatun etäillan neuromoninaisuudesta eli neurodiversiteetistä tiistaina 4.3.2026 klo 17.30–18.30. Nanny-palvelusta paikalla ovat Katja Niela ja Anne Suomalainen. \nKoulutus tarjoaa perustietoa neuromoninaisuudesta sekä siitä\, mitä neurovähemmistö tarkoittaa. Neurovähemmistöön kuuluvat esimerkiksi autisminkirjon ihmiset ja ADHD-ihmiset. Koulutuksessa käsitellään autismin ja ADHD:n piirteitä sekä lisätään ymmärrystä aivojen moninaisuudesta. \nKouluttajana toimii Aisti ry:n vertaistuen viestintäkoordinaattori Karoliina Virkkunen (FM). Koulutuksen asiantuntijuus perustuu yhdistystyön kautta syntyneeseen kohderyhmäymmärrykseen ja kokemustietoon. Lisäksi koulutuksen sisällöt pohjautuvat tutkittuun tietoon. Kouluttaja kuuluu itse neurovähemmistöön. \nAika: ti 4.3.2026 klo 17.30–18.30Toteutus: etätilaisuus \nNeuromoninaisuus-koulutus\, Aisti ry (Ajallaan Oy)\nKeskiviikko\, 4. maaliskuuta 17.30-18.30\nGoogle Meet videopuhelun linkki: https://meet.google.com/khv-zkpx-tpp\nTai soita: Numeron ‪(FI) +358 9 85691586‬ PIN-koodi: ‪375 654 014‬#
URL:https://rusko.fi/tapahtuma/nepsy-ilta-perheille-4-3/
CATEGORIES:Hyvinvointi
ATTACH;FMTTYPE=image/png:https://rusko.fi/wp-content/uploads/2026/02/Neuroilta.png
LOCATION:https://rusko.fi/tapahtuma/nepsy-ilta-perheille-4-3/
END:VEVENT
BEGIN:VEVENT
DTSTART;TZID=Europe/Helsinki:20260307T093000
DTEND;TZID=Europe/Helsinki:20260307T120000
DTSTAMP:20260419T152803
CREATED:20260205T080640Z
LAST-MODIFIED:20260205T080909Z
UID:10002200-1772875800-1772884800@rusko.fi
SUMMARY:Koko perheen leikkipäivä!
DESCRIPTION:Tervetuloa viettämään koko perheen iloista leikkipäivää Norlandia Apilaan lauantaina 7.3.! \nLuvassa on toiminnallinen rata lapsille ja vaahtokarkkien paistelua nuotiolla. \nSamalla on mahdollisuus tutustua päiväkodin toimintaan.
URL:https://rusko.fi/tapahtuma/koko-perheen-leikkipaiva/
ATTACH;FMTTYPE=image/png:https://rusko.fi/wp-content/uploads/2026/02/APILA-Koko-perheen-leikkipaiva-3-2026-FB-tapahtuman-kansikuvat-6.png
END:VEVENT
BEGIN:VEVENT
DTSTART;TZID=Europe/Helsinki:20260308T150000
DTEND;TZID=Europe/Helsinki:20260308T150000
DTSTAMP:20260419T152803
CREATED:20260206T073431Z
LAST-MODIFIED:20260206T112204Z
UID:10002202-1772982000-1772982000@rusko.fi
SUMMARY:Heli Laaksosen Luonto- ja runoehtoo 8.3. Ruskotalolla
DESCRIPTION:(Kuva: Miikka Lappalainen) \nLions Club Rusko järjestää naistenpäivän tapahtumana kirjailija\, runoilija Heli Laaksosen luonto- ja runoehtoon 8.3.2026 klo 15 Ruskotalolla. \nTapahtumassa pullakahvitarjoilu! \nOhjelmamaksu 25 euroa\, tapahtuman tuotto hyväntekeväisyyteen. \nLippujen ennakkomyynti: LC Ruskon jäsenet ja sähköposti: rusko@lions.fi . \nTarkemmat tiedot verkkosivuilla https://rusko.lions.fi/ sekä Lions Club Ruskon Facebook-sivut.
URL:https://rusko.fi/tapahtuma/heli-laaksosen-luonto-ja-runoehtoo-8-3-ruskotalolla/
LOCATION:Ruskotalon liikuntahalli\, Talkootie 5\, Rusko\, 21290\, Finland
CATEGORIES:Yhdistykset
ATTACH;FMTTYPE=image/jpeg:https://rusko.fi/wp-content/uploads/2026/02/Lions-Club-Rusko-8.3.2026-Heli-Laaksosen-Luonto-ja-runoehtoo.jpg
ORGANIZER;CN="Lions Club Rusko":MAILTO:rusko@lions.fi
END:VEVENT
BEGIN:VEVENT
DTSTART;TZID=Europe/Helsinki:20260313T163000
DTEND;TZID=Europe/Helsinki:20260313T180000
DTSTAMP:20260419T152803
CREATED:20260312T051900Z
LAST-MODIFIED:20260312T071231Z
UID:10002236-1773419400-1773424800@rusko.fi
SUMMARY:Talvisodan päättymisen muistopäivä Ruskolla 13.3.
DESCRIPTION:Talvisodan päättymisen muistopäivää huomioidaan Ruskolla perjantaina 13.3.2026 seuraavin menoin: \n\nklo 16.30 seppeleen laskeminen Ruskon sankarihaudoilla\nklo 16.30 seppeleen laskeminen Vahdon sankarihaudalla\n\nSeppeleenlaskujen jälkeen kahvitilaisuus Vahdon seurakuntatalolla. \nTervetuloa. \n– Ruskon perinnetoimikunta.
URL:https://rusko.fi/tapahtuma/talvisodan-paattymisen-muistopaiva-ruskolla-13-3/
CATEGORIES:Kulttuuri
ATTACH;FMTTYPE=image/jpeg:https://rusko.fi/wp-content/uploads/2026/03/vahdon-sankarihauta.jpg
END:VEVENT
BEGIN:VEVENT
DTSTART;TZID=Europe/Helsinki:20260315T170000
DTEND;TZID=Europe/Helsinki:20260315T210000
DTSTAMP:20260419T152803
CREATED:20250804T120401Z
LAST-MODIFIED:20250924T105546Z
UID:10001879-1773594000-1773608400@rusko.fi
SUMMARY:Sunnuntaitanssit
DESCRIPTION:Sunnuntaitanssit klo 17-21 joka sunnuntai Ruskotalolla \nsu 5.10.2025 – su 26.4.2026 \nTervetuloa!
URL:https://rusko.fi/tapahtuma/sunnuntaitanssit/2026-03-15/
ATTACH;FMTTYPE=image/jpeg:https://rusko.fi/wp-content/uploads/2025/08/Ruskotalo_artisti.jpg
END:VEVENT
BEGIN:VEVENT
DTSTART;TZID=Europe/Helsinki:20260317T130000
DTEND;TZID=Europe/Helsinki:20260317T140000
DTSTAMP:20260419T152803
CREATED:20260310T183957Z
LAST-MODIFIED:20260310T185025Z
UID:10002235-1773752400-1773756000@rusko.fi
SUMMARY:Hyvinvointikahvila– ideointitilaisuus
DESCRIPTION:Ruskolla käynnistyy keväällä 2026 uusi Hyvinvointikahvila eläkeikäisille. Ennen toiminnan alkua järjestetään ideointitilaisuus\, jossa kuntalaiset voivat esittää toiveita ja ideoita toiminnan sisällöstä. \nPaikka: Ruskotalon yläkerran kahvilaAika: tiistai 17.3.2026 klo 13.00–14.00 \nTilaisuudessa: \n\nkerrotaan Hyvinvointikahvilan ajatuksesta\nkerätään ideoita kevään teemoiksi\nkeskustellaan toiminnan sisällöstä\n\nTilaisuus on avoin kaikille asiasta kiinnostuneille. Kahvitarjoilu. \nLisätiedotHyvinvointijohtaja Mikko Hulkkonenmikko.hulkkonen@rusko.fi044 4333 523
URL:https://rusko.fi/tapahtuma/hyvinvointikahvila-ideointitilaisuus-17-3-klo-13/
CATEGORIES:Hyvinvointi,Yhdistykset
ATTACH;FMTTYPE=image/png:https://rusko.fi/wp-content/uploads/2026/03/Hyvinvointikahvila-1.png
END:VEVENT
BEGIN:VEVENT
DTSTART;TZID=Europe/Helsinki:20260319T180000
DTEND;TZID=Europe/Helsinki:20260319T183000
DTSTAMP:20260419T152803
CREATED:20251204T123756Z
LAST-MODIFIED:20251204T123953Z
UID:10002124-1773943200-1773945000@rusko.fi
SUMMARY:Vahdon lähikirjaston satuhetki
DESCRIPTION:Kirjaston satutäti lukee nostalgisia satuja tunnelmallisessa\nVahdon lähikirjastossa. \nSatuhetken kesto on noin puoli tuntia. \nVapaa pääsy\, tervetuloa kaikki satujen ystävät!
URL:https://rusko.fi/tapahtuma/vahdon-lahikirjaston-satuhetki-2/2026-03-19/
LOCATION:Vahdon lähikirjasto\, Laukolan koulutie 2b\, VAHTO\, 21310
ATTACH;FMTTYPE=image/jpeg:https://rusko.fi/wp-content/uploads/2025/12/fairy-tale-9502808_1280-e1764852065861.jpg
END:VEVENT
BEGIN:VEVENT
DTSTART;TZID=Europe/Helsinki:20260322T170000
DTEND;TZID=Europe/Helsinki:20260322T210000
DTSTAMP:20260419T152803
CREATED:20250804T120401Z
LAST-MODIFIED:20250924T105546Z
UID:10001880-1774198800-1774213200@rusko.fi
SUMMARY:Sunnuntaitanssit
DESCRIPTION:Sunnuntaitanssit klo 17-21 joka sunnuntai Ruskotalolla \nsu 5.10.2025 – su 26.4.2026 \nTervetuloa!
URL:https://rusko.fi/tapahtuma/sunnuntaitanssit/2026-03-22/
ATTACH;FMTTYPE=image/jpeg:https://rusko.fi/wp-content/uploads/2025/08/Ruskotalo_artisti.jpg
END:VEVENT
BEGIN:VEVENT
DTSTART;TZID=Europe/Helsinki:20260324T123000
DTEND;TZID=Europe/Helsinki:20260324T140000
DTSTAMP:20260419T152803
CREATED:20260319T121456Z
LAST-MODIFIED:20260417T135715Z
UID:10002238-1774355400-1774360800@rusko.fi
SUMMARY:Hyvinvointikahvila
DESCRIPTION:Hyvinvointikahvila käynnistyy Ruskotalolla \nTervetuloa mukaan hyvinvointikahvilaan Ruskotalolle tiistaisin klo 12.30–14.00. Kahvitarjoilu. \nEnsimmäinen hyvinvointikahvila on tiistaina 24.3.\, jolloin ohjelmassa on kirjastopalvelujen esittelyä sekä vapaata seurustelua. \nHyvinvointikahvilan ohjelma tarkentuu kevään aikana. \nLämpimästi tervetuloa mukaan!
URL:https://rusko.fi/tapahtuma/hyvinvointikahvila/2026-03-24/
LOCATION:Ruskotalon kahvio
ATTACH;FMTTYPE=image/png:https://rusko.fi/wp-content/uploads/2026/03/Hyvinvointikahvila.png
END:VEVENT
BEGIN:VEVENT
DTSTART;TZID=Europe/Helsinki:20260326T180000
DTEND;TZID=Europe/Helsinki:20260326T180000
DTSTAMP:20260419T152803
CREATED:20260312T070315Z
LAST-MODIFIED:20260312T070341Z
UID:10002237-1774548000-1774548000@rusko.fi
SUMMARY:Vahtolaisuutta-seminaari: Vahdon MLL 100 vuotta
DESCRIPTION:Luennoitsijana historioitsija Turkka Myllykylä. \nAloitetaan kakku-kahvi tarjoilulla. \nTervetuloa!
URL:https://rusko.fi/tapahtuma/vahtolaisuutta-seminaari-vahdon-mll-100-vuotta/
LOCATION:Vahdon seurakuntatalo\, Kanttorilantie 1\, Vahto\, 21310
CATEGORIES:Yhdistykset
ATTACH;FMTTYPE=image/jpeg:https://rusko.fi/wp-content/uploads/2026/03/Vahdon-MLL-100-vuotta-Vahtolaisuutta-seminaarikuva.jpg
ORGANIZER;CN="Vahto-seura ry":MAILTO:irmeli.kuusela@pp.inet.fi
END:VEVENT
BEGIN:VEVENT
DTSTART;TZID=Europe/Helsinki:20260329T170000
DTEND;TZID=Europe/Helsinki:20260329T210000
DTSTAMP:20260419T152803
CREATED:20250804T120401Z
LAST-MODIFIED:20250924T105546Z
UID:10001881-1774803600-1774818000@rusko.fi
SUMMARY:Sunnuntaitanssit
DESCRIPTION:Sunnuntaitanssit klo 17-21 joka sunnuntai Ruskotalolla \nsu 5.10.2025 – su 26.4.2026 \nTervetuloa!
URL:https://rusko.fi/tapahtuma/sunnuntaitanssit/2026-03-29/
ATTACH;FMTTYPE=image/jpeg:https://rusko.fi/wp-content/uploads/2025/08/Ruskotalo_artisti.jpg
END:VEVENT
BEGIN:VEVENT
DTSTART;TZID=Europe/Helsinki:20260330T170000
DTEND;TZID=Europe/Helsinki:20260330T183000
DTSTAMP:20260419T152803
CREATED:20260227T062250Z
LAST-MODIFIED:20260227T062411Z
UID:10002232-1774890000-1774895400@rusko.fi
SUMMARY:RKMN-yhdistyksen jäsenille: Näyttämön takana -kierros
DESCRIPTION:Tämä kierros on ainoastaan RMKN yhdistykselle varattu ja mukaan mahtuu 25 ensiksi ilmoittautunutta jäsentä. \nKierrosopastus on suomeksi ja kestää puolitoista tuntia. \nOpastetuilla kierroksilla tutustutaan pintaa syvemmältä teatteritaloon\, esitysten tekemiseen ja teatterissa työskenteleviin ammattikuntiin. \nTeatterikierroksen aikana näet muun muassa teatteritalon erilaisia valmistustiloja\, joihin yleisöllä ei tavallisesti ole pääsyä. Pääset myös näkemään teatterisalit näyttämön ”nollasta” käsin! \nIlmoittautumiset: ruskonmaajakotitalousnaiset@gmail.com \nHinta: 15 €/ jäsen
URL:https://rusko.fi/tapahtuma/rkmn-jasenille-nayttamon-takana-kierros/
LOCATION:Turun kaupunginteatteri\, Itäinen Rantakatu 14\, Turku\, 20800
CATEGORIES:Yhdistykset
ATTACH;FMTTYPE=image/jpeg:https://rusko.fi/wp-content/uploads/2026/02/Nayttamon-takana-kierros-3-2026-aatukierros-2.jpg
END:VEVENT
BEGIN:VEVENT
DTSTART;TZID=Europe/Helsinki:20260331T123000
DTEND;TZID=Europe/Helsinki:20260331T140000
DTSTAMP:20260419T152803
CREATED:20260327T141922Z
LAST-MODIFIED:20260327T141924Z
UID:10002239-1774960200-1774965600@rusko.fi
SUMMARY:Hyvinvointikahvila
DESCRIPTION:Hyvinvointikahvila käynnistyy Ruskotalolla \nTervetuloa mukaan hyvinvointikahvilaan Ruskotalolle tiistaisin klo 12.30–14.00. Kahvitarjoilu. \nEnsimmäinen hyvinvointikahvila on tiistaina 24.3.\, jolloin ohjelmassa on kirjastopalvelujen esittelyä sekä vapaata seurustelua. \nHyvinvointikahvilan ohjelma tarkentuu kevään aikana. \nLämpimästi tervetuloa mukaan!
URL:https://rusko.fi/tapahtuma/hyvinvointikahvila-2/
LOCATION:Ruskotalon kahvio
ATTACH;FMTTYPE=image/png:https://rusko.fi/wp-content/uploads/2026/03/Hyvinvointikahvila-31.3-1.png
END:VEVENT
BEGIN:VEVENT
DTSTART;TZID=Europe/Helsinki:20260405T170000
DTEND;TZID=Europe/Helsinki:20260405T210000
DTSTAMP:20260419T152803
CREATED:20250804T120401Z
LAST-MODIFIED:20250924T105546Z
UID:10001882-1775408400-1775422800@rusko.fi
SUMMARY:Sunnuntaitanssit
DESCRIPTION:Sunnuntaitanssit klo 17-21 joka sunnuntai Ruskotalolla \nsu 5.10.2025 – su 26.4.2026 \nTervetuloa!
URL:https://rusko.fi/tapahtuma/sunnuntaitanssit/2026-04-05/
ATTACH;FMTTYPE=image/jpeg:https://rusko.fi/wp-content/uploads/2025/08/Ruskotalo_artisti.jpg
END:VEVENT
BEGIN:VEVENT
DTSTART;TZID=Europe/Helsinki:20260407T123000
DTEND;TZID=Europe/Helsinki:20260407T140000
DTSTAMP:20260419T152803
CREATED:20260319T121456Z
LAST-MODIFIED:20260417T135715Z
UID:10002240-1775565000-1775570400@rusko.fi
SUMMARY:Hyvinvointikahvila
DESCRIPTION:Hyvinvointikahvila käynnistyy Ruskotalolla \nTervetuloa mukaan hyvinvointikahvilaan Ruskotalolle tiistaisin klo 12.30–14.00. Kahvitarjoilu. \nEnsimmäinen hyvinvointikahvila on tiistaina 24.3.\, jolloin ohjelmassa on kirjastopalvelujen esittelyä sekä vapaata seurustelua. \nHyvinvointikahvilan ohjelma tarkentuu kevään aikana. \nLämpimästi tervetuloa mukaan!
URL:https://rusko.fi/tapahtuma/hyvinvointikahvila/2026-04-07/
LOCATION:Ruskotalon kahvio
ATTACH;FMTTYPE=image/png:https://rusko.fi/wp-content/uploads/2026/03/Hyvinvointikahvila.png
END:VEVENT
BEGIN:VEVENT
DTSTART;TZID=Europe/Helsinki:20260412T170000
DTEND;TZID=Europe/Helsinki:20260412T210000
DTSTAMP:20260419T152803
CREATED:20250804T120401Z
LAST-MODIFIED:20250924T105546Z
UID:10001883-1776013200-1776027600@rusko.fi
SUMMARY:Sunnuntaitanssit
DESCRIPTION:Sunnuntaitanssit klo 17-21 joka sunnuntai Ruskotalolla \nsu 5.10.2025 – su 26.4.2026 \nTervetuloa!
URL:https://rusko.fi/tapahtuma/sunnuntaitanssit/2026-04-12/
ATTACH;FMTTYPE=image/jpeg:https://rusko.fi/wp-content/uploads/2025/08/Ruskotalo_artisti.jpg
END:VEVENT
BEGIN:VEVENT
DTSTART;TZID=Europe/Helsinki:20260414T123000
DTEND;TZID=Europe/Helsinki:20260414T140000
DTSTAMP:20260419T152803
CREATED:20260319T121456Z
LAST-MODIFIED:20260417T135715Z
UID:10002241-1776169800-1776175200@rusko.fi
SUMMARY:Hyvinvointikahvila
DESCRIPTION:Hyvinvointikahvila käynnistyy Ruskotalolla \nTervetuloa mukaan hyvinvointikahvilaan Ruskotalolle tiistaisin klo 12.30–14.00. Kahvitarjoilu. \nEnsimmäinen hyvinvointikahvila on tiistaina 24.3.\, jolloin ohjelmassa on kirjastopalvelujen esittelyä sekä vapaata seurustelua. \nHyvinvointikahvilan ohjelma tarkentuu kevään aikana. \nLämpimästi tervetuloa mukaan!
URL:https://rusko.fi/tapahtuma/hyvinvointikahvila/2026-04-14/
LOCATION:Ruskotalon kahvio
ATTACH;FMTTYPE=image/png:https://rusko.fi/wp-content/uploads/2026/03/Hyvinvointikahvila.png
END:VEVENT
BEGIN:VEVENT
DTSTART;TZID=Europe/Helsinki:20260416T173000
DTEND;TZID=Europe/Helsinki:20260416T193000
DTSTAMP:20260419T152803
CREATED:20260227T080218Z
LAST-MODIFIED:20260227T080236Z
UID:10002233-1776360600-1776367800@rusko.fi
SUMMARY:"Miljoonakeikka" - True crime -erikoiskävelykierros
DESCRIPTION:Muistatko vielä Suomen Pankin ryöstön? Koko Suomea kuohuttanut ryöstö tapahtui Turussa 19.2.2007 eli melkein 20 vuotta sitten. Takana oli kansainvälisiä ammattirikollisia. \nMitkä olivat ratkaisevat seikat rikoksen selvittelyssä? Tule kuulemaan miten poliisi selvitti tapausta! \nYhdessä Keskusrikospoliisin rikosylikonstaapelin ja ammattioppaan kanssa pääset seuraamaan ja kuulemaan\, miten Suomen Pankin ryöstö tehtiin\, miten rikollisten jäljille päästiin askel askeleelta ja mikä johtolanka ratkaisi jutun. \nKierroksen aikana pääset näkemään ennennäkemätöntä alkuperäistä tutkintamateriaalia. \nIlmoittautumiset: ruskonmaajakotitalousnaiset@gmail.com\nHinta: 15 €/jäsen
URL:https://rusko.fi/tapahtuma/miljoonakeikka-true-crime-erikoiskavelykierros/
LOCATION:KOP-kolmio\, Turku\, Aurakatu 8\, 20100-Turku
CATEGORIES:Yhdistykset
ATTACH;FMTTYPE=image/jpeg:https://rusko.fi/wp-content/uploads/2026/02/Miljoonakeikka-True-crime-erikoiskavelykierros-42026.jpg
ORGANIZER;CN="Ruskon Maa- ja kotitalousnaiset ry":MAILTO:ruskonmaajakotitalousnaiset@gmail.com
END:VEVENT
BEGIN:VEVENT
DTSTART;TZID=Europe/Helsinki:20260419T170000
DTEND;TZID=Europe/Helsinki:20260419T210000
DTSTAMP:20260419T152803
CREATED:20250804T120401Z
LAST-MODIFIED:20250924T105546Z
UID:10001884-1776618000-1776632400@rusko.fi
SUMMARY:Sunnuntaitanssit
DESCRIPTION:Sunnuntaitanssit klo 17-21 joka sunnuntai Ruskotalolla \nsu 5.10.2025 – su 26.4.2026 \nTervetuloa!
URL:https://rusko.fi/tapahtuma/sunnuntaitanssit/2026-04-19/
ATTACH;FMTTYPE=image/jpeg:https://rusko.fi/wp-content/uploads/2025/08/Ruskotalo_artisti.jpg
END:VEVENT
BEGIN:VEVENT
DTSTART;TZID=Europe/Helsinki:20260421T123000
DTEND;TZID=Europe/Helsinki:20260421T140000
DTSTAMP:20260419T152803
CREATED:20260319T121456Z
LAST-MODIFIED:20260417T135715Z
UID:10002242-1776774600-1776780000@rusko.fi
SUMMARY:Hyvinvointikahvila
DESCRIPTION:Hyvinvointikahvila käynnistyy Ruskotalolla \nTervetuloa mukaan hyvinvointikahvilaan Ruskotalolle tiistaisin klo 12.30–14.00. Kahvitarjoilu. \nEnsimmäinen hyvinvointikahvila on tiistaina 24.3.\, jolloin ohjelmassa on kirjastopalvelujen esittelyä sekä vapaata seurustelua. \nHyvinvointikahvilan ohjelma tarkentuu kevään aikana. \nLämpimästi tervetuloa mukaan!
URL:https://rusko.fi/tapahtuma/hyvinvointikahvila/2026-04-21/
LOCATION:Ruskotalon kahvio
ATTACH;FMTTYPE=image/png:https://rusko.fi/wp-content/uploads/2026/03/Hyvinvointikahvila.png
END:VEVENT
BEGIN:VEVENT
DTSTART;TZID=Europe/Helsinki:20260423T180000
DTEND;TZID=Europe/Helsinki:20260423T183000
DTSTAMP:20260419T152803
CREATED:20251218T111550Z
LAST-MODIFIED:20251218T111551Z
UID:10002126-1776967200-1776969000@rusko.fi
SUMMARY:Vahdon lähikirjaston satuhetki
DESCRIPTION:Kirjaston satutäti lukee nostalgisia satuja tunnelmallisessa\nVahdon lähikirjastossa. \nSatuhetken kesto on noin puoli tuntia. \nVapaa pääsy\, tervetuloa kaikki satujen ystävät!
URL:https://rusko.fi/tapahtuma/vahdon-lahikirjaston-satuhetki-2-2-2/2026-04-23/
LOCATION:Vahdon lähikirjasto\, Laukolan koulutie 2b\, VAHTO\, 21310
ATTACH;FMTTYPE=image/jpeg:https://rusko.fi/wp-content/uploads/2025/12/fairy-tale-9502808_1280-e1764852065861.jpg
END:VEVENT
BEGIN:VEVENT
DTSTART;TZID=Europe/Helsinki:20260426T170000
DTEND;TZID=Europe/Helsinki:20260426T210000
DTSTAMP:20260419T152803
CREATED:20250804T120401Z
LAST-MODIFIED:20250924T105546Z
UID:10001885-1777222800-1777237200@rusko.fi
SUMMARY:Sunnuntaitanssit
DESCRIPTION:Sunnuntaitanssit klo 17-21 joka sunnuntai Ruskotalolla \nsu 5.10.2025 – su 26.4.2026 \nTervetuloa!
URL:https://rusko.fi/tapahtuma/sunnuntaitanssit/2026-04-26/
ATTACH;FMTTYPE=image/jpeg:https://rusko.fi/wp-content/uploads/2025/08/Ruskotalo_artisti.jpg
END:VEVENT
BEGIN:VEVENT
DTSTART;TZID=Europe/Helsinki:20260427T123000
DTEND;TZID=Europe/Helsinki:20260427T143000
DTSTAMP:20260419T152803
CREATED:20260401T124024Z
LAST-MODIFIED:20260417T134636Z
UID:10002300-1777293000-1777300200@rusko.fi
SUMMARY:Kansallinen veteraanipäivä Ruskolla 27.4.2026
DESCRIPTION:Tervetuloa viettämään Kansallista veteraanipäivää Ruskolla maanantaina 27.4.2026. \nPäivän tarkoituksena on kunnioittaa sotiemme veteraaneja\, sotien sukupolvea ja heidän läheisiään sekä siirtää veteraanien perintöä nuoremmille sukupolville. \nklo 10.45 Kukkien lasku Vahdon veteraanikivellä\nklo 11.00 Kukkien lasku Ruskon veteraanikivellä\n klo 11.40 Kahvitus Ruskotalolla\nklo 12.00 Juhla Ruskotalolla\n\nLippujen saapuminen\nTervehdyssanat (kunnanjohtaja Kari Lehtinen)\nMusiikkiesitys (Maunun koulun 7. luokan oppilas Emilia Nurminen)\nPuheenvuoro: ”Muistoja veteraanin sotatiestä” (Timo Heikkilä)\nYhteislaulu: Maamme-laulu\nLippujen poistuminen\n\nLämpimästi tervetuloa! \nSotien 1939–1945 Ruskon perinnetoimikunta \nRuskon kunta ja Ruskon Seurakunta
URL:https://rusko.fi/tapahtuma/kansallinen-veteraanipaiva-ruskolla-27-4-2026/
LOCATION:Ruskotalo
CATEGORIES:Kulttuuri
ATTACH;FMTTYPE=image/png:https://rusko.fi/wp-content/uploads/2026/04/Kansallinen-veteraanipaiva.png
END:VEVENT
BEGIN:VEVENT
DTSTART;TZID=Europe/Helsinki:20260427T180000
DTEND;TZID=Europe/Helsinki:20260427T200000
DTSTAMP:20260419T152803
CREATED:20260325T105602Z
LAST-MODIFIED:20260413T112603Z
UID:10002299-1777312800-1777320000@rusko.fi
SUMMARY:Ruskon Naisvoimistelijoiden kevätjuhla
DESCRIPTION:Ruskon naisvoimistelijoiden perinteinen lastenryhmien kevätnäytös pidetään tänä keväänä Vesi Peuhu -teemalla. \nJuhlassa esiintyvät lapset\, perheryhmät ja myös aikuisryhmiä. \nPaikalla myös puffetti josta saa ostaa kahvia\, mehua\, munkkeja ja makeisia. Maksutapana käteinen tai MobilePay. \nJuhlan sisäänpääsymaksu 2 € kaikilta 12 vuotta täyttäneiltä. \nTERVETULOA!
URL:https://rusko.fi/tapahtuma/ruskon-naisvoimistelijoiden-kevatjuhla/
LOCATION:Ruskotalon liikuntahalli\, Talkootie 5\, Rusko\, 21290\, Finland
CATEGORIES:Yhdistykset
ATTACH;FMTTYPE=image/jpeg:https://rusko.fi/wp-content/uploads/2026/03/RNV-Vesipeuhu-kuva-kevat-2026.jpg
END:VEVENT
BEGIN:VEVENT
DTSTART;TZID=Europe/Helsinki:20260428T123000
DTEND;TZID=Europe/Helsinki:20260428T140000
DTSTAMP:20260419T152803
CREATED:20260319T121456Z
LAST-MODIFIED:20260417T135715Z
UID:10002243-1777379400-1777384800@rusko.fi
SUMMARY:Hyvinvointikahvila
DESCRIPTION:Hyvinvointikahvila käynnistyy Ruskotalolla \nTervetuloa mukaan hyvinvointikahvilaan Ruskotalolle tiistaisin klo 12.30–14.00. Kahvitarjoilu. \nEnsimmäinen hyvinvointikahvila on tiistaina 24.3.\, jolloin ohjelmassa on kirjastopalvelujen esittelyä sekä vapaata seurustelua. \nHyvinvointikahvilan ohjelma tarkentuu kevään aikana. \nLämpimästi tervetuloa mukaan!
URL:https://rusko.fi/tapahtuma/hyvinvointikahvila/2026-04-28/
LOCATION:Ruskotalon kahvio
ATTACH;FMTTYPE=image/png:https://rusko.fi/wp-content/uploads/2026/03/Hyvinvointikahvila.png
END:VEVENT
BEGIN:VEVENT
DTSTART;TZID=Europe/Helsinki:20260505T123000
DTEND;TZID=Europe/Helsinki:20260505T140000
DTSTAMP:20260419T152803
CREATED:20260319T121456Z
LAST-MODIFIED:20260417T135715Z
UID:10002244-1777984200-1777989600@rusko.fi
SUMMARY:Hyvinvointikahvila
DESCRIPTION:Hyvinvointikahvila käynnistyy Ruskotalolla \nTervetuloa mukaan hyvinvointikahvilaan Ruskotalolle tiistaisin klo 12.30–14.00. Kahvitarjoilu. \nEnsimmäinen hyvinvointikahvila on tiistaina 24.3.\, jolloin ohjelmassa on kirjastopalvelujen esittelyä sekä vapaata seurustelua. \nHyvinvointikahvilan ohjelma tarkentuu kevään aikana. \nLämpimästi tervetuloa mukaan!
URL:https://rusko.fi/tapahtuma/hyvinvointikahvila/2026-05-05/
LOCATION:Ruskotalon kahvio
ATTACH;FMTTYPE=image/png:https://rusko.fi/wp-content/uploads/2026/03/Hyvinvointikahvila.png
END:VEVENT
BEGIN:VEVENT
DTSTART;TZID=Europe/Helsinki:20260512T123000
DTEND;TZID=Europe/Helsinki:20260512T140000
DTSTAMP:20260419T152803
CREATED:20260319T121456Z
LAST-MODIFIED:20260417T135715Z
UID:10002245-1778589000-1778594400@rusko.fi
SUMMARY:Hyvinvointikahvila
DESCRIPTION:Hyvinvointikahvila käynnistyy Ruskotalolla \nTervetuloa mukaan hyvinvointikahvilaan Ruskotalolle tiistaisin klo 12.30–14.00. Kahvitarjoilu. \nEnsimmäinen hyvinvointikahvila on tiistaina 24.3.\, jolloin ohjelmassa on kirjastopalvelujen esittelyä sekä vapaata seurustelua. \nHyvinvointikahvilan ohjelma tarkentuu kevään aikana. \nLämpimästi tervetuloa mukaan!
URL:https://rusko.fi/tapahtuma/hyvinvointikahvila/2026-05-12/
LOCATION:Ruskotalon kahvio
ATTACH;FMTTYPE=image/png:https://rusko.fi/wp-content/uploads/2026/03/Hyvinvointikahvila.png
END:VEVENT
BEGIN:VEVENT
DTSTART;TZID=Europe/Helsinki:20260519T123000
DTEND;TZID=Europe/Helsinki:20260519T140000
DTSTAMP:20260419T152803
CREATED:20260319T121456Z
LAST-MODIFIED:20260417T135715Z
UID:10002246-1779193800-1779199200@rusko.fi
SUMMARY:Hyvinvointikahvila
DESCRIPTION:Hyvinvointikahvila käynnistyy Ruskotalolla \nTervetuloa mukaan hyvinvointikahvilaan Ruskotalolle tiistaisin klo 12.30–14.00. Kahvitarjoilu. \nEnsimmäinen hyvinvointikahvila on tiistaina 24.3.\, jolloin ohjelmassa on kirjastopalvelujen esittelyä sekä vapaata seurustelua. \nHyvinvointikahvilan ohjelma tarkentuu kevään aikana. \nLämpimästi tervetuloa mukaan!
URL:https://rusko.fi/tapahtuma/hyvinvointikahvila/2026-05-19/
LOCATION:Ruskotalon kahvio
ATTACH;FMTTYPE=image/png:https://rusko.fi/wp-content/uploads/2026/03/Hyvinvointikahvila.png
END:VEVENT
BEGIN:VEVENT
DTSTART;TZID=Europe/Helsinki:20260521T120000
DTEND;TZID=Europe/Helsinki:20260521T180000
DTSTAMP:20260419T152803
CREATED:20260417T122918Z
LAST-MODIFIED:20260417T130231Z
UID:10002301-1779364800-1779386400@rusko.fi
SUMMARY:Maksuton pyörän keväthuolto Ruskolla 22.5.
DESCRIPTION:Ruskon kunta tarjoaa kaikille avoimen ja maksuttoman polkupyörän keväthuollon perjantaina 22.5. klo 12–18 Ruskotalon alaoven edustalla (Talkootie 3). \nHuolto toteutetaan yhteistyössä Fillaritallin kanssa\, ja paikalle voi tulla ilman ajanvarausta. Pyörän perustarkastus\, kuten ketjujen rasvaus\, vaihteiden ja jarrujen säätö sekä renkaiden ilmanpaineen tarkistus\, kuuluu maksuttomaan palveluun. Mahdollisista varaosista veloitetaan erikseen. \nPalvelun tavoitteena on edistää liikkumista ja parantaa liikenneturvallisuutta helpottamalla pyöräilyn aloittamista kesäkaudella ja varmistamalla\, että pyörät ovat turvallisessa ajokunnossa. \nHuolto toimii walk-in-periaatteella\, joten paikalle voi tulla oman aikataulun mukaan. Vilkkaimpaan aikaan voi syntyä jonkin verran odotusta\, joten paikalle kannattaa tulla ajoissa. \nLisätietoja: hyvinvointijohtaja Mikko Hulkkonen\, mikko.hulkkonen@rusko.fi\, 044 4333 523
URL:https://rusko.fi/tapahtuma/maksuton-pyoran-kevathuolto-ruskolla-22-5/
LOCATION:Ruskotalo
CATEGORIES:Hyvinvointi,Liikunta
ATTACH;FMTTYPE=image/jpeg:https://rusko.fi/wp-content/uploads/2026/04/pyorailijat.jpg
END:VEVENT
END:VCALENDAR